BEGIN:VCALENDAR
VERSION:2.0
PRODID:-//Fun Family Theatre - ECPv6.15.20//NONSGML v1.0//EN
CALSCALE:GREGORIAN
METHOD:PUBLISH
X-ORIGINAL-URL:https://wp.cambridgetouringproductions.co.uk
X-WR-CALDESC:Events for Fun Family Theatre
REFRESH-INTERVAL;VALUE=DURATION:PT1H
X-Robots-Tag:noindex
X-PUBLISHED-TTL:PT1H
BEGIN:VTIMEZONE
TZID:Europe/London
BEGIN:DAYLIGHT
TZOFFSETFROM:+0000
TZOFFSETTO:+0100
TZNAME:BST
DTSTART:20250330T010000
END:DAYLIGHT
BEGIN:STANDARD
TZOFFSETFROM:+0100
TZOFFSETTO:+0000
TZNAME:GMT
DTSTART:20251026T010000
END:STANDARD
BEGIN:DAYLIGHT
TZOFFSETFROM:+0000
TZOFFSETTO:+0100
TZNAME:BST
DTSTART:20260329T010000
END:DAYLIGHT
BEGIN:STANDARD
TZOFFSETFROM:+0100
TZOFFSETTO:+0000
TZNAME:GMT
DTSTART:20261025T010000
END:STANDARD
BEGIN:DAYLIGHT
TZOFFSETFROM:+0000
TZOFFSETTO:+0100
TZNAME:BST
DTSTART:20270328T010000
END:DAYLIGHT
BEGIN:STANDARD
TZOFFSETFROM:+0100
TZOFFSETTO:+0000
TZNAME:GMT
DTSTART:20271031T010000
END:STANDARD
END:VTIMEZONE
BEGIN:VEVENT
DTSTART;TZID=Europe/London:20260627T150000
DTEND;TZID=Europe/London:20260627T170000
DTSTAMP:20260422T160650
CREATED:20260422T102356Z
LAST-MODIFIED:20260422T102529Z
UID:1008-1782572400-1782579600@wp.cambridgetouringproductions.co.uk
SUMMARY:The Sword in the Stone - Black Park Country Park
DESCRIPTION:LINK TO TICKETS:  https://www.ticketsource.com/cambridge-touring-productions/t-xddkyrp \nYoung Wart dreams of becoming a squire\, while his childhood friend Morgan sets her sights on fame and fortune. On the way to the Tournament in London\, they meet a host of colourful characters who guide them through adventures and teach them lasting lessons about friendship\, courage\, and finding their way in the world.  \n★★★★ “… lashings of audience participation.”  Eastern Daily Press  \n★★★★ “… a quintessential experience.”  Broadway Baby  \nCome dressed as a character from the show! Knight\, Lady\, Princess\, Townsfolk\, King\, Queen.  \n\nThis show is suitable for all ages. \nThe performance starts at 3.00pm and the gates will be open from 2.00pm. \nBring a picnic\, low-backed chair or rug and dress for the weather. \nThe performance will last 1hr 50 mins plus a 20 minutes (45 minutes into the show) minute interval.\nPlease bring a blanket\, rug or low backed chair and come dressed for the great British weather including sun protection if it is hot.  \nAll tickets are non-returnable and non-refundable\, unless we have to cancel due to dangerous weather or force majeure. \n\nACCESS: Flat park. Disabled people park off-site. Closest place in front of the toilets.  
URL:https://wp.cambridgetouringproductions.co.uk/event/the-sword-in-the-stone-black-park-country-park/
LOCATION:Black Park Country Park\, Black Park Country Park Black Park Rd\, Slough\, Berkshire\, SL3 6DS\, United Kingdom
CATEGORIES:Comedy,Family,Theatre
ATTACH;FMTTYPE=image/jpeg:https://wp.cambridgetouringproductions.co.uk/wp-content/uploads/2026/04/CTP-Web-Listing-Image-1600-x-900-px-1.jpg
ORGANIZER;CN="Cambridge Touring Productions":MAILTO:info@cambridgetouringproductions.co.uk
END:VEVENT
BEGIN:VEVENT
DTSTART;TZID=Europe/London:20260710T190000
DTEND;TZID=Europe/London:20260710T210000
DTSTAMP:20260422T160650
CREATED:20260325T163853Z
LAST-MODIFIED:20260325T163853Z
UID:986-1783710000-1783717200@wp.cambridgetouringproductions.co.uk
SUMMARY:Lady Windermere's Fan - Dot Productions
DESCRIPTION:Lady Windermere’s Fan\, Friday July 10th\, Burwell House\, Cambridgeshire\,  7pm \nLady Windermere’s Fan – Burwell House \nDOT Productions presents Oscar Wilde’s Lady Windermere’s Fan\, a sparkling revival brimming with wit\, charm\, and the company’s signature comedic flair. \nThis nimble five-actor adaptation brings Wilde’s razor-sharp dialogue and delicious social satire to life with inventive staging and playful character doubling. \nWhen Lady Windermere begins to suspect her husband’s loyalty\, a mysterious woman’s arrival threatens to upend her world. A whirlwind of gossip\, temptation\, and mistaken intentions follows—leading to a revelation that challenges every assumption. \nLight-footed\, stylish\, and irresistibly funny\, this production captures the heart of Wilde’s classic while offering a fresh\, intimate twist. A\ndelightful evening of scandal\, elegance\, and laughter awaits. \nIMPORTANT INFO: Please note this is an open-air production\, please bring a low backed seat or floor rug. This ticket is non-refundable unless the show is cancelled due to dangerous weather. The performance WILL continue in the RAIN\, please bring hooded rain coats and avoid using umbrellas as they block the view of others. Thank you. \nThe performance lasts about 2 hours including a 20-minute interval. \nThe performance space opens at 6pm \nAll tickets are non-returnable and non-refundable\, unless we have to cancel due to dangerous weather or force majeure. \nBurwell House £18 + £1 Non refundable processing fee \n 
URL:https://wp.cambridgetouringproductions.co.uk/event/lady-windermeres-fan-dot-productions/
LOCATION:Burwell House\, Silver Street\, Burwell\, Cambridgeshire\, CB25 0EF
CATEGORIES:Comedy,Theatre
ATTACH;FMTTYPE=image/jpeg:https://wp.cambridgetouringproductions.co.uk/wp-content/uploads/2026/03/2026-LWF-Poster-online-no-info-panel-scaled.jpg
ORGANIZER;CN="Dot Productions":MAILTO:dotproductions@hotmail.co.uk
END:VEVENT
END:VCALENDAR