BEGIN:VCALENDAR
VERSION:2.0
PRODID:-//Fun Family Theatre - ECPv6.15.20//NONSGML v1.0//EN
CALSCALE:GREGORIAN
METHOD:PUBLISH
X-ORIGINAL-URL:https://wp.cambridgetouringproductions.co.uk
X-WR-CALDESC:Events for Fun Family Theatre
REFRESH-INTERVAL;VALUE=DURATION:PT1H
X-Robots-Tag:noindex
X-PUBLISHED-TTL:PT1H
BEGIN:VTIMEZONE
TZID:Europe/London
BEGIN:DAYLIGHT
TZOFFSETFROM:+0000
TZOFFSETTO:+0100
TZNAME:BST
DTSTART:20250330T010000
END:DAYLIGHT
BEGIN:STANDARD
TZOFFSETFROM:+0100
TZOFFSETTO:+0000
TZNAME:GMT
DTSTART:20251026T010000
END:STANDARD
BEGIN:DAYLIGHT
TZOFFSETFROM:+0000
TZOFFSETTO:+0100
TZNAME:BST
DTSTART:20260329T010000
END:DAYLIGHT
BEGIN:STANDARD
TZOFFSETFROM:+0100
TZOFFSETTO:+0000
TZNAME:GMT
DTSTART:20261025T010000
END:STANDARD
BEGIN:DAYLIGHT
TZOFFSETFROM:+0000
TZOFFSETTO:+0100
TZNAME:BST
DTSTART:20270328T010000
END:DAYLIGHT
BEGIN:STANDARD
TZOFFSETFROM:+0100
TZOFFSETTO:+0000
TZNAME:GMT
DTSTART:20271031T010000
END:STANDARD
END:VTIMEZONE
BEGIN:VEVENT
DTSTART;TZID=Europe/London:20260707T140000
DTEND;TZID=Europe/London:20260707T160000
DTSTAMP:20260424T145556
CREATED:20260424T095432Z
LAST-MODIFIED:20260424T095432Z
UID:1026-1783432800-1783440000@wp.cambridgetouringproductions.co.uk
SUMMARY:The Sword in the Stone - Queen's Hall – All ages
DESCRIPTION:LINK TO TICKETS: https://liveargyll.co.uk/event/the-sword-in-the-stone/ \nYoung Wart dreams of becoming a squire\, while his childhood friend Morgan sets her sights on fame and fortune. On the way to the Tournament in London\, they meet a host of colourful characters who guide them through adventures and teach them lasting lessons about friendship\, courage\, and finding their way in the world.  \n★★★★ “… lashings of audience participation.”  Eastern Daily Press  \n★★★★ “… a quintessential experience.”  Broadway Baby  \nCome dressed as a character from the show! Knight\, Lady\, Princess\, Townsfolk\, King\, Queen.  \n\nThis show is suitable for all ages. \nThe performance starts at 2.00pm and the gates will be open from 1.00pm. \nThe performance will last 1hr 50 mins plus a 20 minutes (45 minutes into the show) minute interval. \nPlease bring a blanket\, rug or low backed chair and come dressed for the great British weather including sun protection if it is hot.  \nAll tickets are non-returnable and non-refundable\, unless we have to cancel due to dangerous weather or force majeure. \n\nWe also run workshops at some of the venues:  \nCome and have some fun with the actors in a drama workshop before the performance where you will learn some of the songs from the show and find out more about the characters you are going to watch. Age 5-10. £6.00. 12.30pm.
URL:https://wp.cambridgetouringproductions.co.uk/event/the-sword-in-the-stone-queens-hall-all-ages/
LOCATION:Queen’s Hall\, Queen's Hall Theatre 9 Argyll St\, Dunoon\, Argyllshire\, PA23 7HH\, United Kingdom
CATEGORIES:Comedy,Drama Games Workshop,Family,Theatre
ATTACH;FMTTYPE=image/jpeg:https://wp.cambridgetouringproductions.co.uk/wp-content/uploads/2026/04/CTP-Web-Listing-Image-1600-x-900-px-1.jpg
ORGANIZER;CN="Cambridge Touring Productions":MAILTO:info@cambridgetouringproductions.co.uk
END:VEVENT
END:VCALENDAR