BEGIN:VCALENDAR
VERSION:2.0
PRODID:-//Fun Family Theatre - ECPv6.15.20//NONSGML v1.0//EN
CALSCALE:GREGORIAN
METHOD:PUBLISH
X-WR-CALNAME:Fun Family Theatre
X-ORIGINAL-URL:https://wp.cambridgetouringproductions.co.uk
X-WR-CALDESC:Events for Fun Family Theatre
REFRESH-INTERVAL;VALUE=DURATION:PT1H
X-Robots-Tag:noindex
X-PUBLISHED-TTL:PT1H
BEGIN:VTIMEZONE
TZID:Europe/London
BEGIN:DAYLIGHT
TZOFFSETFROM:+0000
TZOFFSETTO:+0100
TZNAME:BST
DTSTART:20250330T010000
END:DAYLIGHT
BEGIN:STANDARD
TZOFFSETFROM:+0100
TZOFFSETTO:+0000
TZNAME:GMT
DTSTART:20251026T010000
END:STANDARD
BEGIN:DAYLIGHT
TZOFFSETFROM:+0000
TZOFFSETTO:+0100
TZNAME:BST
DTSTART:20260329T010000
END:DAYLIGHT
BEGIN:STANDARD
TZOFFSETFROM:+0100
TZOFFSETTO:+0000
TZNAME:GMT
DTSTART:20261025T010000
END:STANDARD
BEGIN:DAYLIGHT
TZOFFSETFROM:+0000
TZOFFSETTO:+0100
TZNAME:BST
DTSTART:20270328T010000
END:DAYLIGHT
BEGIN:STANDARD
TZOFFSETFROM:+0100
TZOFFSETTO:+0000
TZNAME:GMT
DTSTART:20271031T010000
END:STANDARD
END:VTIMEZONE
BEGIN:VEVENT
DTSTART;TZID=Europe/London:20260628T150000
DTEND;TZID=Europe/London:20260628T170000
DTSTAMP:20260424T155809
CREATED:20260424T091432Z
LAST-MODIFIED:20260424T101909Z
UID:1013-1782658800-1782666000@wp.cambridgetouringproductions.co.uk
SUMMARY:The Sword in the Stone - Cassiobury Park - All ages
DESCRIPTION:LINK TO TICKETS: https://www.ticketsource.com/cambridge-touring-productions/t-xddlken  \nYoung Wart dreams of becoming a squire\, while his childhood friend Morgan sets her sights on fame and fortune. On the way to the Tournament in London\, they meet a host of colourful characters who guide them through adventures and teach them lasting lessons about friendship\, courage\, and finding their way in the world.  \n★★★★ “… lashings of audience participation.”  Eastern Daily Press  \n★★★★ “… a quintessential experience.”  Broadway Baby  \nCome dressed as a character from the show! Knight\, Lady\, Princess\, Townsfolk\, King\, Queen.  \n\nThis show is suitable for all ages. \nThe performance starts at 3.00pm and the gates will be open from 2.00pm. \nBring a picnic\, low-backed chair or rug and dress for the weather. Hot Food\, Drinks and Ice Creams. \nThe performance will last 1hr 50 mins plus a 20 minutes (45 minutes into the show) minute interval. \nPlease bring a blanket\, rug or low backed chair and come dressed for the great British weather including sun protection if it is hot.  \nAll tickets are non-returnable and non-refundable\, unless we have to cancel due to dangerous weather or force majeure. \n\nWe also run workshops at some of the venues:  \nCome and have some fun with the actors in a drama workshop before the performance where you will learn some of the songs from the show and find out more about the characters you are going to watch. For ages 5-10. £6.00. 1.30pm.
URL:https://wp.cambridgetouringproductions.co.uk/event/the-sword-in-the-stone-cassiobury-park/
LOCATION:Cassiobury Park\, The Bandstand Area\, Watford\, Hertfordshire\, WD18 7HY\, United Kingdom
CATEGORIES:Comedy,Drama Games Workshop,Family,Theatre
ATTACH;FMTTYPE=image/jpeg:https://wp.cambridgetouringproductions.co.uk/wp-content/uploads/2026/04/CTP-Web-Listing-Image-1600-x-900-px-1.jpg
ORGANIZER;CN="Cambridge Touring Productions":MAILTO:info@cambridgetouringproductions.co.uk
END:VEVENT
BEGIN:VEVENT
DTSTART;TZID=Europe/London:20260707T140000
DTEND;TZID=Europe/London:20260707T160000
DTSTAMP:20260424T155809
CREATED:20260424T095432Z
LAST-MODIFIED:20260424T095432Z
UID:1026-1783432800-1783440000@wp.cambridgetouringproductions.co.uk
SUMMARY:The Sword in the Stone - Queen's Hall – All ages
DESCRIPTION:LINK TO TICKETS: https://liveargyll.co.uk/event/the-sword-in-the-stone/ \nYoung Wart dreams of becoming a squire\, while his childhood friend Morgan sets her sights on fame and fortune. On the way to the Tournament in London\, they meet a host of colourful characters who guide them through adventures and teach them lasting lessons about friendship\, courage\, and finding their way in the world.  \n★★★★ “… lashings of audience participation.”  Eastern Daily Press  \n★★★★ “… a quintessential experience.”  Broadway Baby  \nCome dressed as a character from the show! Knight\, Lady\, Princess\, Townsfolk\, King\, Queen.  \n\nThis show is suitable for all ages. \nThe performance starts at 2.00pm and the gates will be open from 1.00pm. \nThe performance will last 1hr 50 mins plus a 20 minutes (45 minutes into the show) minute interval. \nPlease bring a blanket\, rug or low backed chair and come dressed for the great British weather including sun protection if it is hot.  \nAll tickets are non-returnable and non-refundable\, unless we have to cancel due to dangerous weather or force majeure. \n\nWe also run workshops at some of the venues:  \nCome and have some fun with the actors in a drama workshop before the performance where you will learn some of the songs from the show and find out more about the characters you are going to watch. Age 5-10. £6.00. 12.30pm.
URL:https://wp.cambridgetouringproductions.co.uk/event/the-sword-in-the-stone-queens-hall-all-ages/
LOCATION:Queen’s Hall\, Queen's Hall Theatre 9 Argyll St\, Dunoon\, Argyllshire\, PA23 7HH\, United Kingdom
CATEGORIES:Comedy,Drama Games Workshop,Family,Theatre
ATTACH;FMTTYPE=image/jpeg:https://wp.cambridgetouringproductions.co.uk/wp-content/uploads/2026/04/CTP-Web-Listing-Image-1600-x-900-px-1.jpg
ORGANIZER;CN="Cambridge Touring Productions":MAILTO:info@cambridgetouringproductions.co.uk
END:VEVENT
BEGIN:VEVENT
DTSTART;TZID=Europe/London:20260724T153000
DTEND;TZID=Europe/London:20260724T173000
DTSTAMP:20260424T155809
CREATED:20260424T102433Z
LAST-MODIFIED:20260424T102433Z
UID:1038-1784907000-1784914200@wp.cambridgetouringproductions.co.uk
SUMMARY:The Sword in the Stone - Constable Burton Hall Gardens – All ages
DESCRIPTION:LINK TO TICKETS: https://www.ticketsource.com/cambridge-touring-productions/t-njjxrnx  \nYoung Wart dreams of becoming a squire\, while his childhood friend Morgan sets her sights on fame and fortune. On the way to the Tournament in London\, they meet a host of colourful characters who guide them through adventures and teach them lasting lessons about friendship\, courage\, and finding their way in the world.  \n★★★★ “… lashings of audience participation.”  Eastern Daily Press  \n★★★★ “… a quintessential experience.”  Broadway Baby  \nCome dressed as a character from the show! Knight\, Lady\, Princess\, Townsfolk\, King\, Queen.  \n\nThis show is suitable for all ages. \nThe performance starts at 3.30pm and the gates will be open from 2.30pm. \nBring a low-backed chair or picnic rug. Refreshments available to purchase on-site. In case of rain\, the performance will take place in The Marquee. \nThe performance will last 1hr 50 mins plus a 20 minutes (45 minutes into the show) minute interval. \nPlease bring a blanket\, rug or low backed chair and come dressed for the great British weather including sun protection if it is hot.  \nAll tickets are non-returnable and non-refundable\, unless we have to cancel due to dangerous weather or force majeure. \n\nWe also run workshops at some of the venues:  \nCome and have some fun with the actors in a drama workshop before the performance where you will learn some of the songs from the show and find out more about the characters you are going to watch. Age 5-10. £6.00. 2.00pm
URL:https://wp.cambridgetouringproductions.co.uk/event/the-sword-in-the-stone-constable-burton-hall-gardens-all-ages/
LOCATION:Constable Burton Hall Gardens\, Constable Burton Hall Gardens Constable Burton\, Leyburn\, North Yorkshire\, DL8 5LJ\, United Kingdom
CATEGORIES:Comedy,Drama Games Workshop,Family,Theatre
ATTACH;FMTTYPE=image/jpeg:https://wp.cambridgetouringproductions.co.uk/wp-content/uploads/2026/04/CTP-Web-Listing-Image-1600-x-900-px-1.jpg
ORGANIZER;CN="Cambridge Touring Productions":MAILTO:info@cambridgetouringproductions.co.uk
END:VEVENT
BEGIN:VEVENT
DTSTART;TZID=Europe/London:20260730T180000
DTEND;TZID=Europe/London:20260730T200000
DTSTAMP:20260424T155809
CREATED:20260414T131818Z
LAST-MODIFIED:20260424T112519Z
UID:978-1785434400-1785441600@wp.cambridgetouringproductions.co.uk
SUMMARY:The Sword in the Stone - Nottingham Castle - All ages
DESCRIPTION:LINK TO TICKETS:  https://www.nottinghamcastle.org.uk/open-air-theatre-the-sword-in-the-stone/ \nYoung Wart dreams of becoming a squire\, while his childhood friend Morgan sets her sights on fame and fortune. On the way to the Tournament in London\, they meet a host of colourful characters who guide them through adventures and teach them lasting lessons about friendship\, courage\, and finding their way in the world. \n★★★★ “… lashings of audience participation.”  Eastern Daily Press \n★★★★ “… a quintessential experience.”  Broadway Baby \nCome dressed as a character from the show! Knight\, Lady\, Princess\, Townsfolk\, King\, Queen.  \n\nThis show is suitable for all ages. \nThe performance starts at 6.00pm and the gates will be open from 5.00pm. \nRefreshments available on-site. \nThe performance will last 1hr 50 mins plus a 20 minutes (45 minutes into the show) minute interval. \nPlease bring a blanket\, rug or low backed chair and come dressed for the great British weather including sun protection if it is hot.  \nAll tickets are non-returnable and non-refundable\, unless we have to cancel due to dangerous weather or force majeure. \n\nACCESS: No stairs involved but relatively steep slopes. Disabled parking onsite. Please pre-book.
URL:https://wp.cambridgetouringproductions.co.uk/event/the-sword-in-the-stone-30-july-2026-nottingham-castle/
LOCATION:Nottingham Castle\, Lenton Road\,\, Nottingham\, Nottinghamshire\, NG1 6EL\, United Kingdom
CATEGORIES:Comedy,Drama Games Workshop,Family,Theatre
ATTACH;FMTTYPE=image/jpeg:https://wp.cambridgetouringproductions.co.uk/wp-content/uploads/2026/04/CTP-Web-Listing-Image-1600-x-900-px-1.jpg
ORGANIZER;CN="Cambridge Touring Productions":MAILTO:info@cambridgetouringproductions.co.uk
END:VEVENT
BEGIN:VEVENT
DTSTART;TZID=Europe/London:20260802T163000
DTEND;TZID=Europe/London:20260802T183000
DTSTAMP:20260424T155809
CREATED:20260424T120157Z
LAST-MODIFIED:20260424T120157Z
UID:1057-1785688200-1785695400@wp.cambridgetouringproductions.co.uk
SUMMARY:The Sword in the Stone - National Trust Stourhead\, Warminster\, Wiltshire – All ages
DESCRIPTION:LINK TO TICKETS:  https://www.nationaltrust.org.uk/visit/wiltshire/stourhead/events/e0c18c5d-30b8-48d8-8e01-734df45a5f77 \nYoung Wart dreams of becoming a squire\, while his childhood friend Morgan sets her sights on fame and fortune. On the way to the Tournament in London\, they meet a host of colourful characters who guide them through adventures and teach them lasting lessons about friendship\, courage\, and finding their way in the world.  \n★★★★ “… lashings of audience participation.”  Eastern Daily Press  \n★★★★ “… a quintessential experience.”  Broadway Baby  \nCome dressed as a character from the show! Knight\, Lady\, Princess\, Townsfolk\, King\, Queen.  \n\nThis show is suitable for all ages. \nThe performance starts at 4.30pm and the gates will be open from 3.30pm. \nBring a picnic\, low-backed chair or rug and dress for the weather. Gates Open 3:30pm. \nThe performance will last 1hr 50 mins plus a 20 minutes (45 minutes into the show) minute interval. \nPlease bring a blanket\, rug or low backed chair and come dressed for the great British weather including sun protection if it is hot.  \nAll tickets are non-returnable and non-refundable\, unless we have to cancel due to dangerous weather or force majeure. \n\nWe also run workshops at some of the venues:  \nCome and have some fun with the actors in a drama workshop before the performance where you will learn some of the songs from the show and find out more about the characters you are going to watch. Age 5-10. £6.00. 3.00pm
URL:https://wp.cambridgetouringproductions.co.uk/event/the-sword-in-the-stone-national-trust-stourhead-warminster-wiltshire-all-ages/
LOCATION:National Trust Stourhead\, Stourhead Stourton\, Stourhead\, Wiltshire\, BA12 6QD\, United Kingdom
CATEGORIES:Comedy,Drama Games Workshop,Family,Theatre
ATTACH;FMTTYPE=image/jpeg:https://wp.cambridgetouringproductions.co.uk/wp-content/uploads/2026/04/CTP-Web-Listing-Image-1600-x-900-px-1.jpg
ORGANIZER;CN="Cambridge Touring Productions":MAILTO:info@cambridgetouringproductions.co.uk
END:VEVENT
BEGIN:VEVENT
DTSTART;TZID=Europe/London:20260812T150000
DTEND;TZID=Europe/London:20260812T170000
DTSTAMP:20260424T155809
CREATED:20260424T125130Z
LAST-MODIFIED:20260424T125130Z
UID:1084-1786546800-1786554000@wp.cambridgetouringproductions.co.uk
SUMMARY:The Sword in the Stone - Milton Country Park – All ages
DESCRIPTION:LINK TO TICKETS: https://www.ticketsource.com/cambridge-touring-productions/t-lddgjda  \nYoung Wart dreams of becoming a squire\, while his childhood friend Morgan sets her sights on fame and fortune. On the way to the Tournament in London\, they meet a host of colourful characters who guide them through adventures and teach them lasting lessons about friendship\, courage\, and finding their way in the world.  \n★★★★ “… lashings of audience participation.”  Eastern Daily Press  \n★★★★ “… a quintessential experience.”  Broadway Baby  \nCome dressed as a character from the show! Knight\, Lady\, Princess\, Townsfolk\, King\, Queen.  \n\nThis show is suitable for all ages. \nThe performance starts at 3.00pm and the gates will be open from 2.00pm. \nBring a picnic\, low-backed chair or rug and dress for the weather. \nThe performance will last 1hr 50 mins plus a 20 minutes (45 minutes into the show) minute interval. \nPlease bring a blanket\, rug or low backed chair and come dressed for the great British weather including sun protection if it is hot.  \nAll tickets are non-returnable and non-refundable\, unless we have to cancel due to dangerous weather or force majeure. \n\nWe also run workshops at some of the venues:  \nCome and have some fun with the actors in a drama workshop before the performance where you will learn some of the songs from the show and find out more about the characters you are going to watch. Age 5-10. £6.00. 1.30pm
URL:https://wp.cambridgetouringproductions.co.uk/event/the-sword-in-the-stone-milton-country-park-all-ages/
LOCATION:Milton Country Park\, Milton Country Park Milton\, Cambridge\, Cambridgeshire\, CB24 6AZ\, United Kingdom
CATEGORIES:Comedy,Drama Games Workshop,Family,Theatre
ATTACH;FMTTYPE=image/jpeg:https://wp.cambridgetouringproductions.co.uk/wp-content/uploads/2026/04/CTP-Web-Listing-Image-1600-x-900-px-1.jpg
ORGANIZER;CN="Cambridge Touring Productions":MAILTO:info@cambridgetouringproductions.co.uk
END:VEVENT
BEGIN:VEVENT
DTSTART;TZID=Europe/London:20260818T160000
DTEND;TZID=Europe/London:20260818T180000
DTSTAMP:20260424T155809
CREATED:20260424T125957Z
LAST-MODIFIED:20260424T125957Z
UID:1087-1787068800-1787076000@wp.cambridgetouringproductions.co.uk
SUMMARY:The Sword in the Stone - Walcot Hall – All ages
DESCRIPTION:LINK TO TICKETS: https://www.ticketsource.com/cambridge-touring-productions/t-plldnze  \nYoung Wart dreams of becoming a squire\, while his childhood friend Morgan sets her sights on fame and fortune. On the way to the Tournament in London\, they meet a host of colourful characters who guide them through adventures and teach them lasting lessons about friendship\, courage\, and finding their way in the world.  \n★★★★ “… lashings of audience participation.”  Eastern Daily Press  \n★★★★ “… a quintessential experience.”  Broadway Baby  \nCome dressed as a character from the show! Knight\, Lady\, Princess\, Townsfolk\, King\, Queen.  \n\nThis show is suitable for all ages. \nThe performance starts at 4.00pm and the gates will be open from 3.00pm. \nBring a low-backed chair or rug. In the event of bad weather\, the performance will take place in The Ballroom. \nThe performance will last 1hr 50 mins plus a 20 minutes (45 minutes into the show) minute interval. \nPlease bring a blanket\, rug or low backed chair and come dressed for the great British weather including sun protection if it is hot.  \nAll tickets are non-returnable and non-refundable\, unless we have to cancel due to dangerous weather or force majeure. \n\nWe also run workshops at some of the venues:  \nCome and have some fun with the actors in a drama workshop before the performance where you will learn some of the songs from the show and find out more about the characters you are going to watch. Age 5-10. £6.00.  2.30pm
URL:https://wp.cambridgetouringproductions.co.uk/event/the-sword-in-the-stone-walcot-hall-all-ages/
LOCATION:Walcot Hall\, Danby Registrars Ltd Walcot Hall\, Lydbury North\, Shropshire\, SY7 8AZ
CATEGORIES:Comedy,Drama Games Workshop,Family,Theatre
ATTACH;FMTTYPE=image/jpeg:https://wp.cambridgetouringproductions.co.uk/wp-content/uploads/2026/04/CTP-Web-Listing-Image-1600-x-900-px-1.jpg
ORGANIZER;CN="Cambridge Touring Productions":MAILTO:info@cambridgetouringproductions.co.uk
END:VEVENT
BEGIN:VEVENT
DTSTART;TZID=Europe/London:20260826T153000
DTEND;TZID=Europe/London:20260826T173000
DTSTAMP:20260424T155809
CREATED:20260424T132224Z
LAST-MODIFIED:20260424T132224Z
UID:1108-1787758200-1787765400@wp.cambridgetouringproductions.co.uk
SUMMARY:The Sword in the Stone - National Trust Godolphin – All ages
DESCRIPTION:LINK TO TICKETS:  https://www.ticketsource.com/cambridge-touring-productions/t-dkkzlzq \nYoung Wart dreams of becoming a squire\, while his childhood friend Morgan sets her sights on fame and fortune. On the way to the Tournament in London\, they meet a host of colourful characters who guide them through adventures and teach them lasting lessons about friendship\, courage\, and finding their way in the world.  \n★★★★ “… lashings of audience participation.”  Eastern Daily Press  \n★★★★ “… a quintessential experience.”  Broadway Baby  \nCome dressed as a character from the show! Knight\, Lady\, Princess\, Townsfolk\, King\, Queen.  \n\nThis show is suitable for all ages. \nThe performance starts at 3.30pm and the gates will be open from 2.30pm. \nBring a picnic\, low-backed chair or rug and dress for the weather. Refreshments available. \nThe performance will last 1hr 50 mins plus a 20 minutes (45 minutes into the show) minute interval. \nPlease bring a blanket\, rug or low backed chair and come dressed for the great British weather including sun protection if it is hot.  \nAll tickets are non-returnable and non-refundable\, unless we have to cancel due to dangerous weather or force majeure. \n\nWe also run workshops at some of the venues:  \nCome and have some fun with the actors in a drama workshop before the performance where you will learn some of the songs from the show and find out more about the characters you are going to watch. Age 5-10. £6.00. 2.00pm.
URL:https://wp.cambridgetouringproductions.co.uk/event/the-sword-in-the-stone-national-trust-godolphin-all-ages/
LOCATION:National Trust Godolphin\, Godolphin Cross\, Helston\, Cornwall\, TR13 9RE
CATEGORIES:Comedy,Drama Games Workshop,Family,Theatre
ATTACH;FMTTYPE=image/jpeg:https://wp.cambridgetouringproductions.co.uk/wp-content/uploads/2026/04/CTP-Web-Listing-Image-1600-x-900-px-1.jpg
ORGANIZER;CN="Cambridge Touring Productions":MAILTO:info@cambridgetouringproductions.co.uk
END:VEVENT
BEGIN:VEVENT
DTSTART;TZID=Europe/London:20260828T150000
DTEND;TZID=Europe/London:20260828T170000
DTSTAMP:20260424T155809
CREATED:20260424T132651Z
LAST-MODIFIED:20260424T132651Z
UID:1114-1787929200-1787936400@wp.cambridgetouringproductions.co.uk
SUMMARY:The Sword in the Stone - Shenley Park – All ages
DESCRIPTION:LINK TO TICKETS: https://www.ticketsource.com/cambridge-touring-productions/t-qmmenvm  \nYoung Wart dreams of becoming a squire\, while his childhood friend Morgan sets her sights on fame and fortune. On the way to the Tournament in London\, they meet a host of colourful characters who guide them through adventures and teach them lasting lessons about friendship\, courage\, and finding their way in the world.  \n★★★★ “… lashings of audience participation.”  Eastern Daily Press  \n★★★★ “… a quintessential experience.”  Broadway Baby  \nCome dressed as a character from the show! Knight\, Lady\, Princess\, Townsfolk\, King\, Queen.  \n\nThis show is suitable for all ages. \nThe performance starts at 3.00pm and the gates will be open from 2.00pm. \nBring a low-backed chair or rug. Refreshments & ice creams available to buy on the night. Put this in small letters on the banner. \nThe performance will last 1hr 50 mins plus a 20 minutes (45 minutes into the show) minute interval. \nPlease bring a blanket\, rug or low backed chair and come dressed for the great British weather including sun protection if it is hot.  \nAll tickets are non-returnable and non-refundable\, unless we have to cancel due to dangerous weather or force majeure. \n\nWe also run workshops at some of the venues:  \nCome and have some fun with the actors in a drama workshop before the performance where you will learn some of the songs from the show and find out more about the characters you are going to watch. Age 5-10. £6.00. 1.30pm
URL:https://wp.cambridgetouringproductions.co.uk/event/the-sword-in-the-stone-shenley-park-all-ages/
LOCATION:Shenley Park\, Shenley Park Radlett Lane\, Shenley\, Hertfordshire\, WD7 9DW
CATEGORIES:Comedy,Drama Games Workshop,Family,Theatre
ATTACH;FMTTYPE=image/jpeg:https://wp.cambridgetouringproductions.co.uk/wp-content/uploads/2026/04/CTP-Web-Listing-Image-1600-x-900-px-1.jpg
ORGANIZER;CN="Cambridge Touring Productions":MAILTO:info@cambridgetouringproductions.co.uk
END:VEVENT
END:VCALENDAR